BEGIN:VCALENDAR
VERSION:2.0
PRODID:-//TYPO3/NONSGML News system (news)//EN
CALSCALE:GREGORIAN
METHOD:PUBLISH
BEGIN:VEVENT
UID:news-112364@gnesau.at

DTSTAMP:20260421T101626Z



DTSTART;TZID=Europe/Vienna:20260317T000000
DTEND;TZID=Europe/Vienna:20260317T000000

SUMMARY:Kasperltheater 
DESCRIPTION:Kasperl und der verschwundene Osterhase !

Dienstag, den 17.03.2026
Start: 15:30 Uhr 
im Kultursaal Gnesau 

LOCATION:


END:VEVENT
END:VCALENDAR
