BEGIN:VCALENDAR
VERSION:2.0
PRODID:-//TYPO3/NONSGML News system (news)//EN
CALSCALE:GREGORIAN
METHOD:PUBLISH
BEGIN:VEVENT
UID:news-110649@gnesau.at

DTSTAMP:20260420T170229Z



DTSTART;TZID=Europe/Vienna:20260508T000000
DTEND;TZID=Europe/Vienna:20260508T000000

SUMMARY:🌸 Muttertagsfeier 🌸
DESCRIPTION:🌸 Muttertagsfeier im Kultursaal Gnesau🌸
📅 Freitag, 08.05. ab 13:00 Uhr
Die Kinder, LehrerInnen und der Elternverein der Volksschule Gnesau sowie der Familienausschuss der Gemeinde Gnesau freuen sich auf Ihr Kommen!

LOCATION:


END:VEVENT
END:VCALENDAR
